BEGIN:VCALENDAR
VERSION:2.0
PRODID:-// - ECPv6.14.2//NONSGML v1.0//EN
CALSCALE:GREGORIAN
METHOD:PUBLISH
X-ORIGINAL-URL:https://www.rietintasca.it
X-WR-CALDESC:Eventi per 
REFRESH-INTERVAL;VALUE=DURATION:PT1H
X-Robots-Tag:noindex
X-PUBLISHED-TTL:PT1H
BEGIN:VTIMEZONE
TZID:Europe/Rome
BEGIN:DAYLIGHT
TZOFFSETFROM:+0100
TZOFFSETTO:+0200
TZNAME:CEST
DTSTART:20190331T010000
END:DAYLIGHT
BEGIN:STANDARD
TZOFFSETFROM:+0200
TZOFFSETTO:+0100
TZNAME:CET
DTSTART:20191027T010000
END:STANDARD
END:VTIMEZONE
BEGIN:VEVENT
DTSTART;TZID=Europe/Rome:20190726T080000
DTEND;TZID=Europe/Rome:20190728T200000
DTSTAMP:20260421T150549
CREATED:20190528T085003Z
LAST-MODIFIED:20190528T085145Z
UID:1341-1564128000-1564344000@www.rietintasca.it
SUMMARY:56a Rieti Terminillo – 54a Coppa Bruno Carotti
DESCRIPTION:Torna\, nel mese di luglio\, l’appuntamento motoristico per eccellenza della provincia di Rieti. \nDa venerdì 26 a domenica 28 Luglio 2019\, i piloti si affronteranno sulla salita terminillese\, da sempre una delle gare più veloci d’Europa con oltre 150 km/h di media. La gara sarà valevole per il Campionato Italiano Velocità Montagna (CIVM)\, per il Trofeo Italiano Velocita’ Montagna Sud (TIVM) e per il Trofeo Italiano Velocita’ Montagna Nord (TIVM)
URL:https://www.rietintasca.it/evento/56a-rieti-terminillo-54a-coppa-bruno-carotti/
LOCATION:Lisciano pizzicotti\, Piazza Giuseppe Verdi Lisciano\, Rieti\, 02100\, Italia
CATEGORIES:Sport
ATTACH;FMTTYPE=image/jpeg:https://www.rietintasca.it/wp-content/uploads/2019/05/coppa-carotti-2019-e1590239955622.jpg
ORGANIZER;CN="Automobile Club Rieti":MAILTO:RI002@delegazioni.aci.it
END:VEVENT
END:VCALENDAR