BEGIN:VCALENDAR
VERSION:2.0
PRODID:-// - ECPv6.14.2//NONSGML v1.0//EN
CALSCALE:GREGORIAN
METHOD:PUBLISH
X-ORIGINAL-URL:https://www.rietintasca.it
X-WR-CALDESC:Eventi per 
REFRESH-INTERVAL;VALUE=DURATION:PT1H
X-Robots-Tag:noindex
X-PUBLISHED-TTL:PT1H
BEGIN:VTIMEZONE
TZID:Europe/Rome
BEGIN:DAYLIGHT
TZOFFSETFROM:+0100
TZOFFSETTO:+0200
TZNAME:CEST
DTSTART:20170326T010000
END:DAYLIGHT
BEGIN:STANDARD
TZOFFSETFROM:+0200
TZOFFSETTO:+0100
TZNAME:CET
DTSTART:20171029T010000
END:STANDARD
BEGIN:DAYLIGHT
TZOFFSETFROM:+0100
TZOFFSETTO:+0200
TZNAME:CEST
DTSTART:20180325T010000
END:DAYLIGHT
BEGIN:STANDARD
TZOFFSETFROM:+0200
TZOFFSETTO:+0100
TZNAME:CET
DTSTART:20181028T010000
END:STANDARD
BEGIN:DAYLIGHT
TZOFFSETFROM:+0100
TZOFFSETTO:+0200
TZNAME:CEST
DTSTART:20190331T010000
END:DAYLIGHT
BEGIN:STANDARD
TZOFFSETFROM:+0200
TZOFFSETTO:+0100
TZNAME:CET
DTSTART:20191027T010000
END:STANDARD
END:VTIMEZONE
BEGIN:VEVENT
DTSTART;TZID=Europe/Rome:20190607T080000
DTEND;TZID=Europe/Rome:20190616T220000
DTSTAMP:20260421T212014
CREATED:20190529T133022Z
LAST-MODIFIED:20190607T083017Z
UID:1457-1559894400-1560722400@www.rietintasca.it
SUMMARY:Rieti Sport Festival
DESCRIPTION:Partito nel 2016 da un’idea visionaria dell’imprenditore Sergio Battisti e del giornalista reatino di Sky Sport Stefano Meloccaro\, il Rieti Sport Festival rappresenta una delle manifestazioni cittadine più importanti per i valori che trasmette e per l’apertura della città verso i più ampi panorami nazionali e internazionali. \nNe sono testimonianza gli ospiti di altissimo livello che hanno accettato\, in ogni edizione\, di intervenire all’evento. \n\nil presidente del CONI Giovanni Malagò\nil Presidente del Comitato italiano Paralimpico Luca Pancalli\nla campionessa paralimpica Bebe Vio\nGianni Rivera\nPaolo Bonolis\nNeri Marcorè\ni rugbisti azzurri Salvatore “Totò” Perugini e Fabio Ongaro\nJimmy Ghione\nil giornalista Michele Plastino\nlo scrittore Sandro Veronesi\ni calciatori reatini Pietro Mariani e Federico Dionisi e Marcello Nicchi\, Presidente Nazionale dell’Associazione Italiana Arbitri\nil campione di MMA Alessio Sakara\nil Capo della Protezione Civile Fabrizio Curcio\nl’attore Carlo Verdone\nAndrea Lo Cicero\, rugbista della Nazionale Italiana\nEnzo Salvi\, attore e showman\nMaurizio Stirpe\, Presidente del Frosinone Calcio\nKevin Bonifazi\, calciatore reatino del Torino\nLorella Cuccarini\, showgirl e volto noto della tv italiana\nBruno Vespa e suo figlio Federico\nPaolo Di Canio\, FIFA Fair Play Award 2001 e simbolo del calcio italiano nel mondo\nMassimo Giletti\n\n[mks_separator style=”solid” height=”2″] \n4a edizione \nPer la prima volta\, quest’anno la manifestazione si svolgerà nel cuore della città\, in Piazza Vittorio Emanuele II. \nProgramma 2019 \n\n7 Giugno 2019 – ore 17\,00 – Cerimonia di apertura\n7 Giugno 2019 – ore 18\,00 – Convegno “Percorsi sportivi sulla terrazza tra i due laghi”\n7 Giugno 2019 – ore 19\,00 – Conferenza stampa per illustrare il dossier della candidatura “Rieti Città Europea dello Sport 2021”\n7 Giugno 2019 – ore 22\,00 – Musica Live – Piggle House 2.0\n8 Giugno 2019 – ore 9\,00/12\,00 – Giornata del donatore di sangue a cura di AVIS\n8 Giugno 2019 – ore 18\,00 – Convegno “Sport ed Alimentazione: il ruolo delle proteine nella dieta equilibrata dello sportivo.”\n8 Giugno 2019 – ore 19\,30 – Tomas Slavik\n8 Giugno 2019 – ore 21\,00 – Maria Grazia Cucinotta\, madrina del Festival\n8 Giugno 2019 – ore 21\,00 – Concerto Luca e Germano\n\n9 Giugno 2019 – ore 18\,00 – Convegno “Cicloturismo: una leva per lo sport”\n\n9 Giugno 2019 – ore 19\,00 – Tommaso Paradiso\, frontman del gruppo Thegiornalisti\n9 Giugno 2019 – ore 20\,00 – Airton Cozzolino\, campione del mondo del Kite surf\n9 Giugno 2019 – ore 21\,00 – Sinisa Mihajlovic\n9 Giugno 2019 – ore 22\,00 – Musica Live – BlaskoMania – Vasco Rossi Tribute Band\n\n10 Giugno 2019 – ore 22\,00 – Musica Live – Magical Mistery Four – Beatles Tribute Band\n11 Giugno – ore 17\,30 – Workshop “La grande bellezza di una piccola provincia. Rieti: risorse e vocazioni dello sviluppo turistico”\n11 Giugno 2019 – ore 21\,00 – Max Giusti\n12 Giugno 2019 – ore 12\,00 – Ski Day – Workshop sul mondo dello sci – Ospiti Giorgio Rocca e Kristian Ghedina\n12 Giugno 2019 – ore 22\,00 – Musica Live – ErosMania – Eros Ramazzotti Tribute Band\n14 Giugno 2019 – ore 21\,00 – Ivan Zazzaroni
URL:https://www.rietintasca.it/evento/rieti-sport-festival/
LOCATION:Rieti\, Piazza Vittorio Emanuele II\, Rieti\, Italia
CATEGORIES:Sport
ATTACH;FMTTYPE=image/jpeg:https://www.rietintasca.it/wp-content/uploads/2019/05/rieti-sport-festival-logo.jpeg
END:VEVENT
BEGIN:VEVENT
DTSTART;TZID=Europe/Rome:20170202T080000
DTEND;TZID=Europe/Rome:20170205T233000
DTSTAMP:20260421T212014
CREATED:20190614T172826Z
LAST-MODIFIED:20190614T173102Z
UID:1774-1486022400-1486337400@www.rietintasca.it
SUMMARY:Terminillo Film Festival
DESCRIPTION:INTRODUZIONE \nTERMINILLO FILM FESTIVAL è il primo festival invernale dedicato alla commedia italiana in uno dei luoghi più suggestivi dell’appennino centrale. L’idea nasce da Alessandro Micheli e Francesco Apolloni i quali hanno riportato alla luce quanto il Terminillo sia stato protagonista in ambito cinematografico negli anni 60/70. Il Festival é un’occasione importante per far apprezzare agli ospiti (attori\, registi\, produttori) la straordinaria bellezza della “Montagna di Roma” anche al fine di coinvolgerli in produzioni cinematografiche che\, come già avvenuto in altre località italiane\, creano lavoro per tutti gli operatori e le aziende del territorio. \nLA MONTAGNA DI ROMA NEL CINEMA \nFin dai primi anni del dopoguerra era facile\, per chi andasse a sciare al Terminillo imbattersi in personaggi dello spettacolo\, attori\, attrici\, registi. In quegli anni Terminillo era considerato la Cortina del centro Italia\, tanto da diventare una location molto apprezzata per i film. \nIn uno dei primi film girati al Terminillo\, “Lo sbaglio di essere vivo” (Carlo Ludovico Bragaglia\, 1945) i protagonisti Vittorio De Sica\, Gino Cervi e Isa Miranda arrivarono a Pian de’ Valli su un autobus del servizio pubblico reatino e occupano le stanze degli alberghi ancora nuovi di zecca. De Sica tornò al Terminillo\, e precisamente a Campoforogna\, nel ‘61 per il suo “Il giudizio universale”\, con un cast stellare di protagonisti: Alberto Sordi\, Vittorio Gassmann\, Nino Manfredi\, Silvana Mangano\, Melina Mercouri\, Paolo Stoppa\, Fernandel\, Renato Rascel\, Anouk Aimee\, Jack Palance\, Ernest Borgnine\, Lino Ventura\, Domenico Modugno e Mike Bongiorno. Il regista Luigi Zampa in una stanza dell’albergo Togo-Palace\, appena inaugurato scrisse il copione de “Il medico della mutua” con Alberto Sordi. \nIn tempi più recenti Renato Pozzetto ed Enrico Montesano\,un bancario milanese e un tranviere romano\, fanno amicizia durante un massacrante corso di sopravvivenza tra i boschi e i percorsi montani terminillesi in “Noi uomini duri” (Maurizio Ponzi\, 1987). \nAnche diversi terminillesi hanno preso parte\, nel tempo\, a varie produzioni importanti. Memorabile la partecipazione di Dino Zamboni\, in “C’era una volta il west” di Sergio Leone. Nel 1968\, infatti\, il maestro di sci “personale” di Vittorio Gassman recitò al fianco di Claudia Cardinale\, Henry Fonda\, Jason Robards e Charles Bronson. \nDino Zamboni recitò anche in “L’Estate” diretto da Paolo Spinola ed interpretato da Enrico Maria Salerno\, Nadja Tiller e Mita Medici\, al tempo sedicenne. Tra gli eventi mondani terminillesi ricordiamo\, su tutti\, il matrimonio di Gina Lollobrigida che nel gennaio del 1949 sposò\, nella “chiesetta degli Alpini”\, il medico sloveno Milko Skofic\, che prestava servizio fra i profughi temporaneamente alloggiati a Cinecittà. \nDESCRIZIONE \nIl glorioso passato in ambito cinematografico ha fatto nascere l’idea del Terminillo Film Festival che ha visto la “Montagna di Roma”\, la sua storia\, la stagione invernale e la neve\, protagonisti di un clima festoso e di divertimento dedicato alla COMMEDIA ITALIANA. Il pubblico ha avuto a disposizione il ristrutturato Cinema Teatro Tre Faggi che ha ospitato le proiezioni e la Sala conferenze del Comune di Rieti per i convegni e gli incontri di settore e istituzionali\, dibattiti sulla montagna\, sullo sviluppo del territorio ed incontri culturali. \nPROSSIMA EDIZIONE \nIl TERMINILLO FILM FESTIVAL rappresenta una manifestazione di livello nazionale che\, già dalla prima edizione\, ha riscosso unanime successo tra gli addetti ai lavori e nell’opinione pubblica\, sia per quanto riguarda l’aspetto organizzativo\, sia per quanto concerne il programma artistico. Negli anni precedenti\, infatti\, tra i film proiettati in anteprima nazionale abbiamo ammirato “Lo chiamavano Jeeg Robot” e “Perfetti Sconosciuti” che\, da soli\, hanno totalizzato ben 8 David di Donatello\, segno che le scelte artistiche sono state di altissimo valore\, tanto da far risuonare il nome del Terminillo\, e di tutto il territorio reatino\, nei salotti più importanti del panorama cinematografico nazionale\, come il Festival di Venezia e i Nastri d’Argento. Grande successo anche per “Mamma o papà?” con Antonio Albanese e Paola Cortellesi proiettato in anteprima nazionale. \nTanto é stato il piacere di partecipare alla manifestazione da parte di attori illustri\, registi e produttori\, come testimoniato dalle numerose interviste televisive e radiofoniche\, che in questi due anni\, diversi registi sono tornati al Terminillo per girare scene dei propri film. Tra gli altri ricordiamo Massimiliano D’Epiro\, marito di Violante Placido\, che ha scelto di tornare sulla nostra montagna per le riprese del film “Stella” e Paola Cortellesi per la sua ultima fatica “La Befana”. A fare da cornice diverse lavorazioni di spot commerciali (Amaro Silano) e cortometraggi. Questo a dimostrazione che lo scopo primario del Terminillo Film Festival\, e cioè quello di far conoscere a fondo il territorio agli ospiti dell’evento al fine di farli innamorare delle nostre location\, ha raggiunto un primo traguardo. Anche registi come Michele Placido e Federico Moccia hanno manifestato il proprio interesse per i prossimi lavori. \nElenco dei Talent presenti nelle edizioni 2016 e 2017 \nRAOUL BOVA\nROCIO MUNOZ MORALES\nENRICO VANZINA\nMICHELE PLACIDO\nVIOLANTE PLACIDO\nMASSIMILIANO D’EPIRO\nFEDERICO MOCCIA\nLILLO PETROLO\nPAOLA SCOLA\nILARIA SPADA\nPAOLA CORTELLESI\nRICCARDO MILANI\nRICKY MEMPHIS\nPRIMO REGGIANI\nFRANCESCO MONTANARI\nROBERTO CAPUCCI\nPAOLO GENOVESE\nMICHELA ANDREOZZI\nMAX VADO\nEURIDICE AXEN\nNICOLAS VAPORIDIS\nMATTEO BRANCIAMORE\nPIRGIORGIO BELLOCCHIO\nFRANCESCO PANNOFINO\nLORENZO LAVIA\nARIADNA RODMERO\nGIORGIO COLANGELI\nMARCO BONINI\nMAURIZIO MATTIOLI\nGABRIELE MAINETTI\nCHRISTIAN MARAZZITI\nLOREDANA CANNATA\nASTRID PINERO HERRERA\nCAROLINA REY\nMARIANNA DI MARTINO\nILENIA PASTORELLI\nSTELLA EGITTO\nTHE PILLS
URL:https://www.rietintasca.it/evento/terminillo-film-festival/
LOCATION:Teatro Tre Faggi Terminillo\, Piazzale Pian de Valli 38 Terminillo\, Italia
CATEGORIES:Cinema
END:VEVENT
END:VCALENDAR