BEGIN:VCALENDAR
VERSION:2.0
PRODID:-// - ECPv6.14.2//NONSGML v1.0//EN
CALSCALE:GREGORIAN
METHOD:PUBLISH
X-ORIGINAL-URL:https://www.rietintasca.it
X-WR-CALDESC:Eventi per 
REFRESH-INTERVAL;VALUE=DURATION:PT1H
X-Robots-Tag:noindex
X-PUBLISHED-TTL:PT1H
BEGIN:VTIMEZONE
TZID:Europe/Rome
BEGIN:DAYLIGHT
TZOFFSETFROM:+0100
TZOFFSETTO:+0200
TZNAME:CEST
DTSTART:20190331T010000
END:DAYLIGHT
BEGIN:STANDARD
TZOFFSETFROM:+0200
TZOFFSETTO:+0100
TZNAME:CET
DTSTART:20191027T010000
END:STANDARD
END:VTIMEZONE
BEGIN:VEVENT
DTSTART;TZID=Europe/Rome:20190705T080000
DTEND;TZID=Europe/Rome:20190707T200000
DTSTAMP:20260421T150713
CREATED:20190613T161709Z
LAST-MODIFIED:20190613T161709Z
UID:1749-1562313600-1562529600@www.rietintasca.it
SUMMARY:Terminhill\, il Downhill di Roma
DESCRIPTION:Seconda edizione per gli skatenati longboarder discesisti.\nIl Monte Terminillo ospita atleti che arrivano da ogni parte d’Italia e dall’estero. La panoramica del Terminillo\, infatti\, è considerata dai partecipanti un tracciato perfetto per la pratica del downhillskateboarding (disciplina riconosciuta ufficialmente dalla FISR-Federazione Italiana Sport Rotellistici).
URL:https://www.rietintasca.it/evento/terminhill-il-downhill-di-roma/
LOCATION:Rifugio Sebastiani Terminillo\, Strada per Vallonina\, Rieti\, Italia
CATEGORIES:Sport
ATTACH;FMTTYPE=image/jpeg:https://www.rietintasca.it/wp-content/uploads/2019/06/terminhill.jpg
ORGANIZER;CN="SD & APS UNIVERSITY":MAILTO:info@snowpress.org
END:VEVENT
END:VCALENDAR